BEGIN:VCALENDAR
VERSION:2.0
PRODID:-//AGE of Central Texas - ECPv6.15.20//NONSGML v1.0//EN
CALSCALE:GREGORIAN
METHOD:PUBLISH
X-WR-CALNAME:AGE of Central Texas
X-ORIGINAL-URL:https://ageofcentraltx.org
X-WR-CALDESC:Events for AGE of Central Texas
REFRESH-INTERVAL;VALUE=DURATION:PT1H
X-Robots-Tag:noindex
X-PUBLISHED-TTL:PT1H
BEGIN:VTIMEZONE
TZID:UTC
BEGIN:STANDARD
TZOFFSETFROM:+0000
TZOFFSETTO:+0000
TZNAME:UTC
DTSTART:20250101T000000
END:STANDARD
END:VTIMEZONE
BEGIN:VEVENT
DTSTART;TZID=UTC:20260507T103000
DTEND;TZID=UTC:20260507T113000
DTSTAMP:20260424T091603
CREATED:20260401T171820Z
LAST-MODIFIED:20260401T171820Z
UID:11078-1778149800-1778153400@ageofcentraltx.org
SUMMARY:Ten Things I Get Asked About the Aging Brain
DESCRIPTION:REGISTER HERE! \nJoin us in person or online to explore the top 10 FAQs from Dr. Benge\, a board-certified clinical neuropsychologist\, about the aging brain. \n\n\n\n\nTen Things I Get Asked About the Aging Brain\nJoin us in person or online for an informative presentation about the aging brain! We’ll dive into the top ten questions people ask about how our minds change over time. This presentation will cover topics such as Dementia\, Alzheimer’s\, Medications and Supplements\, and the Pillars of Brain Health.
URL:https://ageofcentraltx.org/index.php/event/ten-things-i-get-asked-about-the-aging-brain/
LOCATION:AGE of Central Texas – South Location\, 9400 Alice Mae Ln.\, Austin\, TX\, 78748\, United States
ATTACH;FMTTYPE=image/png:https://ageofcentraltx.org/wp-content/uploads/2026/04/Caregiving-101-eventbrite-1.png
END:VEVENT
BEGIN:VEVENT
DTSTART;TZID=UTC:20260513T120000
DTEND;TZID=UTC:20260513T130000
DTSTAMP:20260424T091603
CREATED:20260401T190617Z
LAST-MODIFIED:20260401T190617Z
UID:11080-1778673600-1778677200@ageofcentraltx.org
SUMMARY:Planning With Purpose: DNR and Medical Power of Attorney Documents
DESCRIPTION:REGISTER HERE! \nJoin us in person to learn why it is important to plan ahead with DNR and MPOA documents with a chance to create these documents on-site \n\n\n\n\nPlanning With Purpose: Why DNR and Medical Power of Attorney Documents matter for Older Adults\nJoin us in person for an easygoing session all about getting your DNR and Medical Power of Attorney documents lined up. We’ll break down the essentials so you can plan with confidence and peace of mind. Whether you’re updating your docs or starting fresh\, this event’s got you covered. After a short informative presentation\, there will be a notary on-site to give participants the chance to create these documents before they leave.
URL:https://ageofcentraltx.org/index.php/event/planning-with-purpose-dnr-and-medical-power-of-attorney-documents/
LOCATION:AGE of Central Texas – South Location\, 9400 Alice Mae Ln.\, Austin\, TX\, 78748\, United States
ATTACH;FMTTYPE=image/png:https://ageofcentraltx.org/wp-content/uploads/2026/04/Caregiving-101-eventbrite-2.png
END:VEVENT
BEGIN:VEVENT
DTSTART;TZID=UTC:20260518T120000
DTEND;TZID=UTC:20260518T133000
DTSTAMP:20260424T091603
CREATED:20260401T211743Z
LAST-MODIFIED:20260401T211819Z
UID:11082-1779105600-1779111000@ageofcentraltx.org
SUMMARY:Strategic Dementia Caregiver
DESCRIPTION:REGISTER HERE! \nLearn practical strategies and tools to provide caregivers with valuable insights for caring for an individual living with dementia.
URL:https://ageofcentraltx.org/index.php/event/strategic-dementia-caregiver/
LOCATION:Online via ZOOM
ATTACH;FMTTYPE=image/png:https://ageofcentraltx.org/wp-content/uploads/2025/10/strategic-dementia-caregiver-1.png
END:VEVENT
BEGIN:VEVENT
DTSTART;TZID=UTC:20260815T083000
DTEND;TZID=UTC:20260815T143000
DTSTAMP:20260424T091603
CREATED:20260423T192111Z
LAST-MODIFIED:20260423T192111Z
UID:11095-1786782600-1786804200@ageofcentraltx.org
SUMMARY:Striking a Balance: A Free Conference for Family Caregivers
DESCRIPTION:REGISTER HERE! \n\n\nGet practical tools\, expert guidance\, and real support to help you care for your loved one—and yourself. \n\n\n\n\nFeeling overwhelmed\, unsure what to do next\, or just needing a break? You’re not alone. \nJoin us for a day of support\, practical tools\, and space to breathe—designed just for caregivers. \n💡 Why Attend\n✔️ Get practical help you can use right away\nWalk away with real-life caregiving tools and strategies \n✔️ Plan ahead with confidence\nLearn how to prepare—legally\, financially\, and emotionally \n✔️ Take care of yourself\, too\nRest\, recharge\, and reconnect with your own well-being \n✔️ Connect with people who understand\nBuild support with other caregivers and local experts \n✔️ Discover helpful resources\nFind services that make caregiving more manageable \n✔️ Attend with peace of mind\nFree on-site respite care available for your loved one \n✨ What to Expect\n\nThree learning tracks to choose from\nExpert-led sessions + hands-on learning\nResource fair with local support organizations\nA welcoming\, supportive community\n\n📘 About the Event\nJoin us for the 26th Annual Striking a Balance Caregiver Conference\, a one-day\, in-person event supporting unpaid family caregivers. \nThis year features three learning tracks: \n🔹 Caregiver TLC – Rest and recharge through support and gentle experiences\n🔹 Life Care Planning – Plan ahead with clarity and confidence\n🔹 Practical Caregiving – Build skills for everyday caregiving \n✔️ What’s Included\n\nComplimentary lunch\nAccess to all sessions\nResource Fair\nSupportive Care Lounge (free respite care provided by AGE of Central Texas for pre-registered guests)\n\n♿ Accessibility\nASL interpretation is available upon request—please register by August 11 and indicate your request.\nAttendees may also use their own device to access real-time translation via Wordly (headphones recommended).
URL:https://ageofcentraltx.org/index.php/event/striking-a-balance-a-free-conference-for-family-caregivers/
ATTACH;FMTTYPE=image/png:https://ageofcentraltx.org/wp-content/uploads/2026/04/Striking-A-Balance-Banner-2160-x-1080-px-3.png
END:VEVENT
END:VCALENDAR