BEGIN:VCALENDAR
VERSION:2.0
PRODID:-//AGE of Central Texas - ECPv6.15.20//NONSGML v1.0//EN
CALSCALE:GREGORIAN
METHOD:PUBLISH
X-ORIGINAL-URL:https://ageofcentraltx.org
X-WR-CALDESC:Events for AGE of Central Texas
REFRESH-INTERVAL;VALUE=DURATION:PT1H
X-Robots-Tag:noindex
X-PUBLISHED-TTL:PT1H
BEGIN:VTIMEZONE
TZID:UTC
BEGIN:STANDARD
TZOFFSETFROM:+0000
TZOFFSETTO:+0000
TZNAME:UTC
DTSTART:20250101T000000
END:STANDARD
END:VTIMEZONE
BEGIN:VEVENT
DTSTART;TZID=UTC:20260507T103000
DTEND;TZID=UTC:20260507T113000
DTSTAMP:20260420T133757
CREATED:20260401T171820Z
LAST-MODIFIED:20260401T171820Z
UID:11078-1778149800-1778153400@ageofcentraltx.org
SUMMARY:Ten Things I Get Asked About the Aging Brain
DESCRIPTION:REGISTER HERE! \nJoin us in person or online to explore the top 10 FAQs from Dr. Benge\, a board-certified clinical neuropsychologist\, about the aging brain. \n\n\n\n\nTen Things I Get Asked About the Aging Brain\nJoin us in person or online for an informative presentation about the aging brain! We’ll dive into the top ten questions people ask about how our minds change over time. This presentation will cover topics such as Dementia\, Alzheimer’s\, Medications and Supplements\, and the Pillars of Brain Health.
URL:https://ageofcentraltx.org/index.php/event/ten-things-i-get-asked-about-the-aging-brain/
LOCATION:AGE of Central Texas – South Location\, 9400 Alice Mae Ln.\, Austin\, TX\, 78748\, United States
ATTACH;FMTTYPE=image/png:https://ageofcentraltx.org/wp-content/uploads/2026/04/Caregiving-101-eventbrite-1.png
END:VEVENT
END:VCALENDAR