BEGIN:VCALENDAR
VERSION:2.0
PRODID:-//AGE of Central Texas - ECPv6.15.20//NONSGML v1.0//EN
CALSCALE:GREGORIAN
METHOD:PUBLISH
X-ORIGINAL-URL:https://ageofcentraltx.org
X-WR-CALDESC:Events for AGE of Central Texas
REFRESH-INTERVAL;VALUE=DURATION:PT1H
X-Robots-Tag:noindex
X-PUBLISHED-TTL:PT1H
BEGIN:VTIMEZONE
TZID:UTC
BEGIN:STANDARD
TZOFFSETFROM:+0000
TZOFFSETTO:+0000
TZNAME:UTC
DTSTART:20250101T000000
END:STANDARD
END:VTIMEZONE
BEGIN:VEVENT
DTSTART;TZID=UTC:20260311T120000
DTEND;TZID=UTC:20260311T130000
DTSTAMP:20260421T093755
CREATED:20260205T185859Z
LAST-MODIFIED:20260205T185859Z
UID:11043-1773230400-1773234000@ageofcentraltx.org
SUMMARY:Beyond 'Wait and See': Science-Backed Solutions for Cognitive Health
DESCRIPTION:REGISTER HERE! \n\nJoin us online to explore science-backed tips for boosting your brain health beyond just waiting and watching!\n\n\n\nBeyond ‘Wait and See’: Science-Backed Solutions for Cognitive Health\nJoin us online for an engaging event where we’ll explore cutting-edge research and practical tips to keep your brain sharp. For years\, families facing cognitive decline have been told “there’s nothing you can do.” That era is over. Join us for an eye-opening presentation on the breakthrough science behind non-drug cognitive interventions – backed by 300+ clinical trials – and discover how new technology makes these proven therapies accessible to everyone. We’ll explore how evidence-based cognitive care not only supports patients in maintaining independence and reaching personal goals\, but also provides meaningful relief and hope for the families who care for them. Learn why the “wait and see” approach is outdated\, and how you can take action today.
URL:https://ageofcentraltx.org/index.php/event/beyond-wait-and-see-science-backed-solutions-for-cognitive-health/
LOCATION:TX
ATTACH;FMTTYPE=image/png:https://ageofcentraltx.org/wp-content/uploads/2026/02/Wait-and-See-Cognitive-health.png
END:VEVENT
END:VCALENDAR